BEGIN:VCALENDAR
VERSION:2.0
PRODID:-//Town of Otis - ECPv6.3.6//NONSGML v1.0//EN
CALSCALE:GREGORIAN
METHOD:PUBLISH
X-ORIGINAL-URL:https://townofotis.com
X-WR-CALDESC:Events for Town of Otis
REFRESH-INTERVAL;VALUE=DURATION:PT1H
X-Robots-Tag:noindex
X-PUBLISHED-TTL:PT1H
BEGIN:VTIMEZONE
TZID:America/New_York
BEGIN:DAYLIGHT
TZOFFSETFROM:-0500
TZOFFSETTO:-0400
TZNAME:EDT
DTSTART:20250309T070000
END:DAYLIGHT
BEGIN:STANDARD
TZOFFSETFROM:-0400
TZOFFSETTO:-0500
TZNAME:EST
DTSTART:20251102T060000
END:STANDARD
END:VTIMEZONE
BEGIN:VEVENT
DTSTART;TZID=America/New_York:20251122T170000
DTEND;TZID=America/New_York:20251122T190000
DTSTAMP:20260422T214224
CREATED:20251119T122445Z
LAST-MODIFIED:20251119T122445Z
UID:1715-1763830800-1763838000@townofotis.com
SUMMARY:Hunters Supper-5-7 Mariaville Grange
DESCRIPTION:HUNTERS SUPPER-Nov 22nd-5-7pm \nMariaville Grange-Benefits the Recreation Committee
URL:https://townofotis.com/event/hunters-supper-5-7-mariaville-grange/
END:VEVENT
END:VCALENDAR