BEGIN:VCALENDAR
VERSION:2.0
PRODID:-//Town of Otis - ECPv6.3.6//NONSGML v1.0//EN
CALSCALE:GREGORIAN
METHOD:PUBLISH
X-ORIGINAL-URL:https://townofotis.com
X-WR-CALDESC:Events for Town of Otis
REFRESH-INTERVAL;VALUE=DURATION:PT1H
X-Robots-Tag:noindex
X-PUBLISHED-TTL:PT1H
BEGIN:VTIMEZONE
TZID:America/New_York
BEGIN:DAYLIGHT
TZOFFSETFROM:-0500
TZOFFSETTO:-0400
TZNAME:EDT
DTSTART:20250309T070000
END:DAYLIGHT
BEGIN:STANDARD
TZOFFSETFROM:-0400
TZOFFSETTO:-0500
TZNAME:EST
DTSTART:20251102T060000
END:STANDARD
END:VTIMEZONE
BEGIN:VEVENT
DTSTART;TZID=America/New_York:20251002T170000
DTEND;TZID=America/New_York:20251002T180000
DTSTAMP:20260422T231438
CREATED:20250919T164025Z
LAST-MODIFIED:20250919T175154Z
UID:1675-1759424400-1759428000@townofotis.com
SUMMARY:Planning Board Meeting-5:00pm
DESCRIPTION:
URL:https://townofotis.com/event/planning-board-meeting-500pm-7/
END:VEVENT
BEGIN:VEVENT
DTSTART;TZID=America/New_York:20251008T163000
DTEND;TZID=America/New_York:20251008T173000
DTSTAMP:20260422T231438
CREATED:20250919T164106Z
LAST-MODIFIED:20250919T164106Z
UID:1677-1759941000-1759944600@townofotis.com
SUMMARY:Selectmen's Meeting-4:30pm
DESCRIPTION:
URL:https://townofotis.com/event/selectmens-meeting-430pm-16/
END:VEVENT
BEGIN:VEVENT
DTSTART;TZID=America/New_York:20251013T080000
DTEND;TZID=America/New_York:20251013T170000
DTSTAMP:20260422T231438
CREATED:20250919T164128Z
LAST-MODIFIED:20250919T164128Z
UID:1679-1760342400-1760374800@townofotis.com
SUMMARY:Town Office Closed
DESCRIPTION:
URL:https://townofotis.com/event/town-office-closed-59/
END:VEVENT
BEGIN:VEVENT
DTSTART;TZID=America/New_York:20251027T170000
DTEND;TZID=America/New_York:20251027T180000
DTSTAMP:20260422T231438
CREATED:20251020T164927Z
LAST-MODIFIED:20251020T164927Z
UID:1694-1761584400-1761588000@townofotis.com
SUMMARY:RECREATION MEETING-5:00PM
DESCRIPTION:
URL:https://townofotis.com/event/recreation-meeting-500pm-7/
END:VEVENT
BEGIN:VEVENT
DTSTART;TZID=America/New_York:20251031T080000
DTEND;TZID=America/New_York:20251031T170000
DTSTAMP:20260422T231438
CREATED:20251020T165351Z
LAST-MODIFIED:20251020T170108Z
UID:1700-1761897600-1761930000@townofotis.com
SUMMARY:Town Office Closed
DESCRIPTION:
URL:https://townofotis.com/event/town-office-closed-60/
END:VEVENT
END:VCALENDAR