BEGIN:VCALENDAR
VERSION:2.0
PRODID:-//Town of Otis - ECPv6.3.6//NONSGML v1.0//EN
CALSCALE:GREGORIAN
METHOD:PUBLISH
X-ORIGINAL-URL:https://townofotis.com
X-WR-CALDESC:Events for Town of Otis
REFRESH-INTERVAL;VALUE=DURATION:PT1H
X-Robots-Tag:noindex
X-PUBLISHED-TTL:PT1H
BEGIN:VTIMEZONE
TZID:America/New_York
BEGIN:DAYLIGHT
TZOFFSETFROM:-0500
TZOFFSETTO:-0400
TZNAME:EDT
DTSTART:20250309T070000
END:DAYLIGHT
BEGIN:STANDARD
TZOFFSETFROM:-0400
TZOFFSETTO:-0500
TZNAME:EST
DTSTART:20251102T060000
END:STANDARD
END:VTIMEZONE
BEGIN:VEVENT
DTSTART;VALUE=DATE:20251104
DTEND;VALUE=DATE:20251105
DTSTAMP:20260422T195217
CREATED:20251029T111925Z
LAST-MODIFIED:20251029T111925Z
UID:1705-1762214400-1762300799@townofotis.com
SUMMARY:Referendum Election Polls open 8-8
DESCRIPTION:
URL:https://townofotis.com/event/referendum-election-polls-open-8-8/
END:VEVENT
BEGIN:VEVENT
DTSTART;TZID=America/New_York:20251111T080000
DTEND;TZID=America/New_York:20251111T170000
DTSTAMP:20260422T195217
CREATED:20251020T170205Z
LAST-MODIFIED:20251020T170205Z
UID:1702-1762848000-1762880400@townofotis.com
SUMMARY:VETERANS DAY-OFFICE CLOSED
DESCRIPTION:
URL:https://townofotis.com/event/veterans-day-office-closed/
END:VEVENT
BEGIN:VEVENT
DTSTART;TZID=America/New_York:20251112T163000
DTEND;TZID=America/New_York:20251112T173000
DTSTAMP:20260422T195217
CREATED:20251020T165023Z
LAST-MODIFIED:20251020T165023Z
UID:1696-1762965000-1762968600@townofotis.com
SUMMARY:Selectmen's Meeting-4:30pm
DESCRIPTION:
URL:https://townofotis.com/event/selectmens-meeting-430pm-17/
END:VEVENT
BEGIN:VEVENT
DTSTART;VALUE=DATE:20251114
DTEND;VALUE=DATE:20251115
DTSTAMP:20260422T195217
CREATED:20251113T122056Z
LAST-MODIFIED:20251113T122056Z
UID:1708-1763078400-1763164799@townofotis.com
SUMMARY:TOWN OFFICE CLOSED
DESCRIPTION:
URL:https://townofotis.com/event/town-office-closed-61/
END:VEVENT
BEGIN:VEVENT
DTSTART;TZID=America/New_York:20251120T170000
DTEND;TZID=America/New_York:20251120T180000
DTSTAMP:20260422T195217
CREATED:20251020T165159Z
LAST-MODIFIED:20251020T165313Z
UID:1698-1763658000-1763661600@townofotis.com
SUMMARY:Planning Board-5:00pm
DESCRIPTION:
URL:https://townofotis.com/event/planning-board-500pm-17/
END:VEVENT
BEGIN:VEVENT
DTSTART;VALUE=DATE:20251121
DTEND;VALUE=DATE:20251122
DTSTAMP:20260422T195217
CREATED:20251117T131133Z
LAST-MODIFIED:20251117T131133Z
UID:1712-1763683200-1763769599@townofotis.com
SUMMARY:TOWN OFFICE CLOSED
DESCRIPTION:
URL:https://townofotis.com/event/town-office-closed-62/
END:VEVENT
BEGIN:VEVENT
DTSTART;TZID=America/New_York:20251122T170000
DTEND;TZID=America/New_York:20251122T190000
DTSTAMP:20260422T195217
CREATED:20251119T122445Z
LAST-MODIFIED:20251119T122445Z
UID:1715-1763830800-1763838000@townofotis.com
SUMMARY:Hunters Supper-5-7 Mariaville Grange
DESCRIPTION:HUNTERS SUPPER-Nov 22nd-5-7pm \nMariaville Grange-Benefits the Recreation Committee
URL:https://townofotis.com/event/hunters-supper-5-7-mariaville-grange/
END:VEVENT
BEGIN:VEVENT
DTSTART;TZID=America/New_York:20251124T170000
DTEND;TZID=America/New_York:20251124T180000
DTSTAMP:20260422T195217
CREATED:20251117T131109Z
LAST-MODIFIED:20251117T131109Z
UID:1710-1764003600-1764007200@townofotis.com
SUMMARY:Recreation Mtg-5:00PM
DESCRIPTION:
URL:https://townofotis.com/event/recreation-mtg-500pm/
END:VEVENT
BEGIN:VEVENT
DTSTART;TZID=America/New_York:20251126T123000
DTEND;TZID=America/New_York:20251126T123000
DTSTAMP:20260422T195217
CREATED:20251124T134048Z
LAST-MODIFIED:20251124T134048Z
UID:1717-1764160200-1764160200@townofotis.com
SUMMARY:Town Office closed @ noon
DESCRIPTION:
URL:https://townofotis.com/event/town-office-closed-noon-2/
END:VEVENT
BEGIN:VEVENT
DTSTART;TZID=America/New_York:20251127T080000
DTEND;TZID=America/New_York:20251127T170000
DTSTAMP:20260422T195217
CREATED:20251124T134127Z
LAST-MODIFIED:20251124T134127Z
UID:1719-1764230400-1764262800@townofotis.com
SUMMARY:Town office Closed
DESCRIPTION:
URL:https://townofotis.com/event/town-office-closed-63/
END:VEVENT
BEGIN:VEVENT
DTSTART;VALUE=DATE:20251128
DTEND;VALUE=DATE:20251129
DTSTAMP:20260422T195217
CREATED:20251124T134159Z
LAST-MODIFIED:20251124T134159Z
UID:1721-1764288000-1764374399@townofotis.com
SUMMARY:Town Office closed
DESCRIPTION:
URL:https://townofotis.com/event/town-office-closed-64/
END:VEVENT
END:VCALENDAR